BEGIN:VCALENDAR
VERSION:2.0
PRODID:-//Maverick Medical Education - ECPv6.15.18//NONSGML v1.0//EN
CALSCALE:GREGORIAN
METHOD:PUBLISH
X-WR-CALNAME:Maverick Medical Education
X-ORIGINAL-URL:https://maverickmeded.com
X-WR-CALDESC:Events for Maverick Medical Education
REFRESH-INTERVAL;VALUE=DURATION:PT1H
X-Robots-Tag:noindex
X-PUBLISHED-TTL:PT1H
BEGIN:VTIMEZONE
TZID:America/Chicago
BEGIN:DAYLIGHT
TZOFFSETFROM:-0600
TZOFFSETTO:-0500
TZNAME:CDT
DTSTART:20240310T080000
END:DAYLIGHT
BEGIN:STANDARD
TZOFFSETFROM:-0500
TZOFFSETTO:-0600
TZNAME:CST
DTSTART:20241103T070000
END:STANDARD
BEGIN:DAYLIGHT
TZOFFSETFROM:-0600
TZOFFSETTO:-0500
TZNAME:CDT
DTSTART:20250309T080000
END:DAYLIGHT
BEGIN:STANDARD
TZOFFSETFROM:-0500
TZOFFSETTO:-0600
TZNAME:CST
DTSTART:20251102T070000
END:STANDARD
BEGIN:DAYLIGHT
TZOFFSETFROM:-0600
TZOFFSETTO:-0500
TZNAME:CDT
DTSTART:20260308T080000
END:DAYLIGHT
BEGIN:STANDARD
TZOFFSETFROM:-0500
TZOFFSETTO:-0600
TZNAME:CST
DTSTART:20261101T070000
END:STANDARD
END:VTIMEZONE
BEGIN:VEVENT
DTSTART;TZID=America/Chicago:20251206T080000
DTEND;TZID=America/Chicago:20251206T170000
DTSTAMP:20260419T181442
CREATED:20240711T021618Z
LAST-MODIFIED:20260202T183226Z
UID:5854-1765008000-1765040400@maverickmeded.com
SUMMARY:Point-of-Care Ultrasound with Vascular Access (SOLD OUT)
DESCRIPTION:Is the course you want to attend sold out? Click here to be added to a waitlist! We’ll reach out to you as soon as a slot becomes available. \nThis course teaches CRNAs\, nurse practitioners\, physician assistants\, and other allied health professionals the crucial skill of point-of-care ultrasound (POCUS) as an assessment tool. After completing our online didactic modules and Maverick hands-on lab\, you’ll be able to make faster and more accurate diagnoses\, improve outcomes\, and send home happier and healthier patients. \n  \nMaverick Medical Education offers a new course that combines Regional Anesthesia Essential Techniques and Point-of-Care Ultrasound with Vascular Access. Learn more here.  \n\nCourse Pricing:\n• $1\,100.00\n• $1\,000.00: Military Rate (MUST email proof of valid military ID) \nVeterans and active military — please use code MilPOCUS at checkout to take advantage of our military discount! (Anyone using this code must provide proof of valid military ID after purchase) \nDiscounted rates only given at the time of purchase with use of discount codes. No retroactive discounts will be given. Discount codes and prices may not be transferred to others. You must fully qualify for a discount in order to use a discount code. All discounts will be reviewed and verified. \nBefore purchasing\, please review our Cancellation Policy. \nAll courses must be purchased by the intended attendee. If purchasing a course on behalf of someone else\, please contact us before purchasing. Course registrations may not be transferred. \n\nCourse Content:\n40 AANA Class A CE Hours \nOnline Didactic Module Topics:\n(Online didactic modules will open at least 6 weeks prior to lab) \n• An Introduction to Ultrasound\n• How Ultrasounds produce an image on screen\n• POCUS for Gastric Assessment\n• POCUS for Peripheral Vascular Access\n• POCUS for Internal Jugular access\n• Cardiac assessment for normal cardiac function and commonly seen pathological conditions\n• Pulmonary assessment for normal function and common problems.\n• eFast assessment for trauma and hemodynamically unstable patients\n• POCUS for DVT assessment \nThe online didactic modules have been approved by the American Association of Nurse Anesthetists (AANA) for 32.00 Class A CE credits. \nHands-On Lab Stations: \n• Cardiac Assessment\n• eFAST Assessment\n• Gastric Assessment\n• Pulmonary Assessment\n• US for Internal Jugular Access\n• US Guided Vascular Access\n• Venous Access \nThe hands-on lab has been approved by the American Association of Nurse Anesthetists (AANA) for 08.00 Class A CE credits. \n\nCourse Schedule\nTHIS IS A 1-DAY ONLY COURSE\n• 7:30am-8:00am: Station Overview & Breakfast (Provided by Maverick)\n• 8:00am-12:00pm: Hands-on Live Model Assessment Stations\n• 12:00pm-12:30pm: Presentation & Lunch (Provided by Maverick)\n• 12:30pm-3:00pm: Hands-on Live Model Assessment Stations \n\nTravel & FAQ:     \nPlease Visit Our Site To See Travel Information For Your In-Person Course \nFAQ & Technical Requirements
URL:https://maverickmeded.com/event/point-of-care-ultrasound-with-vascular-access-5/
LOCATION:Matrix Medical Training Lab\, 2074 S Houston Avenue\, Humble\, TX\, 77396\, United States
CATEGORIES:Point-of-Care Ultrasound with Vascular Access
END:VEVENT
BEGIN:VEVENT
DTSTART;TZID=America/Chicago:20251206T080000
DTEND;TZID=America/Chicago:20251207T170000
DTSTAMP:20260419T181442
CREATED:20240711T023208Z
LAST-MODIFIED:20260202T190116Z
UID:5817-1765008000-1765126800@maverickmeded.com
SUMMARY:Regional Anesthesia Basic Techniques + Point-of-Care Ultrasound with Vascular Access Combo
DESCRIPTION:Are the course dates you want to attend sold out? Click here to be added to a waitlist! We’ll reach out to you as soon as a slot becomes available. \nMaverick Medical Education offers a course combining regional anesthesia\, point-of-care ultrasound (POCUS)\, and ultrasound guided vascular access: \n• Regional Anesthesia Basic Techniques teaches the basics of regional anesthesia\, including ultrasound-guided nerve blocks. The course covers a wide range of topics\, including ultrasound physics\, anatomy\, image interpretation\, and needle guidance techniques to perform 8 basic regional nerve blocks. \n• POCUS with Vascular Access teaches the use of ultrasound for patient assessment. The course covers the basics of ultrasound physics and anatomy\, as well as the specific applications of POCUS in these areas. \nThis course is ideal for CRNAs\, nurse practitioners\, physician assistants\, and other allied health professionals who want to learn the skills necessary to perform ultrasound-guided regional anesthesia and POCUS. The course is also a great way to stay up to date on the latest advances in these areas. \n\nCourse Price: \n• $3\,000.00\n• $2\,400.00: Military rate \nVeterans and active military — To support our military\, Maverick offers a 20% discount on all hands-on lab courses to any active or veteran military service members. To use our military discount\, you must verify your military status through GOVX ID at the Cart Checkout page. Once verified\, a discount code will be generated and applied to your order. \nDiscounted rates only given at the time of purchase with use of discount codes. No retroactive discounts will be given. Discount codes and prices may not be transferred to others. You must fully qualify for a discount in order to use a discount code. All discounts will be reviewed and verified. \nBefore purchasing\, please review our Cancellation Policy. \nAll courses must be purchased by the intended attendee. If purchasing a course on behalf of someone else\, please contact us before purchasing. Course registrations may not be transferred. \n\nCourse Content: \n62 AANA Class A CE Hours \nRegional Anesthesia Basic Techniques: Covers the basics of regional anesthesia\, including the following ultrasound-guided nerve blocks: \n• Adductor Canal\n• Axillary\n• Femoral\n• Genicular\n• Interscalene/Supraclavicular\n• PENG/LFCN\n• Popliteal Plexus\n• Popliteal Sciatic \nPOCUS with Vascular Access: Teaches the use of POCUS to assess: \n• POCUS for Gastric Assessment\n• POCUS for Peripheral Vascular access\n• POCUS for Internal Jugular access\n• Cardiac assessment for normal cardiac function and commonly seen pathological conditions\n• Pulmonary assessment for normal function and common problems.\n• eFast assessment for trauma and hemodynamically unstable patients\n• POCUS for DVT assessment \nCE’s Earned \nThe online didactic modules have been approved by the American Association of Nurse Anesthetists (AANA) for 46.00 Class A CE credits. \nThe hands-on lab has been approved by the American Association of Nurse Anesthetists (AANA) for 16.00 Class A CE credits. \n\nCourse Schedule\nCADAVER LAB SCHEDULE\n• 7:30am-8:00am: Coffee & Breakfast Served (Provided by Maverick)\n• 8:00am-9:00am: Orientation & Breakfast (Provided by Maverick)\n• 9:00am-12:00pm: Hands-on Cadaver Lab & Physical Exam Stations\n• 12:00pm-1:00pm: Lunch (Provided by Maverick)\n• 12:30pm-4:00pm: Hands-on Cadaver Lab & Physical Exam Stations \nPOCUS LAB SCHEDULE\n• 7:30am-8:00am: Station Overview & Breakfast (Provided by Maverick)\n• 8:00am-12:00pm: Hands-on Live Model Assessment Stations\n• 12:00pm-12:30pm: Presentation & Lunch (Provided by Maverick)\n• 12:30pm-3:00pm: Hands-on Live Model Assessment Stations \n\nTravel & FAQ:     \nPlease Visit Our Site To See Travel Information For Your In-Person Course \nFAQ & Technical Requirements
URL:https://maverickmeded.com/event/regional-anesthesia-essential-techniques-point-of-care-ultrasound-with-vascular-access-combo-4/
LOCATION:Matrix Medical Training Lab\, 2074 S Houston Avenue\, Humble\, TX\, 77396\, United States
CATEGORIES:Essential Techniques,Point-of-Care Ultrasound with Vascular Access,Regional Anesthesia,Regional Anesthesia Basic Techniques and Point-of-Care Ultrasound with Vascular Access Combo
END:VEVENT
BEGIN:VEVENT
DTSTART;TZID=America/Chicago:20251207T080000
DTEND;TZID=America/Chicago:20251207T170000
DTSTAMP:20260419T181442
CREATED:20250611T171952Z
LAST-MODIFIED:20260202T185532Z
UID:6795-1765094400-1765126800@maverickmeded.com
SUMMARY:Point-of-Care Ultrasound with Vascular Access (SOLD OUT)
DESCRIPTION:Is the course you want to attend sold out? Click here to be added to a waitlist! We’ll reach out to you as soon as a slot becomes available. \nThis course teaches CRNAs\, nurse practitioners\, physician assistants\, and other allied health professionals the crucial skill of point-of-care ultrasound (POCUS) as an assessment tool. After completing our online didactic modules and Maverick hands-on lab\, you’ll be able to make faster and more accurate diagnoses\, improve outcomes\, and send home happier and healthier patients. \n  \nMaverick Medical Education offers a new course that combines Regional Anesthesia Essential Techniques and Point-of-Care Ultrasound with Vascular Access. Learn more here.  \n\nCourse Pricing:\n• $1\,100.00\n• $1\,000.00: Military Rate (MUST email proof of valid military ID) \nVeterans and active military — please use code MilPOCUS at checkout to take advantage of our military discount! (Anyone using this code must provide proof of valid military ID after purchase) \nDiscounted rates only given at the time of purchase with use of discount codes. No retroactive discounts will be given. Discount codes and prices may not be transferred to others. You must fully qualify for a discount in order to use a discount code. All discounts will be reviewed and verified. \nBefore purchasing\, please review our Cancellation Policy. \nAll courses must be purchased by the intended attendee. If purchasing a course on behalf of someone else\, please contact us before purchasing. Course registrations may not be transferred. \n\nCourse Content:\n40 AANA Class A CE Hours \nOnline Didactic Module Topics:\n(Online didactic modules will open at least 6 weeks prior to lab) \n• An Introduction to Ultrasound\n• How Ultrasounds produce an image on screen\n• POCUS for Gastric Assessment\n• POCUS for Peripheral Vascular Access\n• POCUS for Internal Jugular access\n• Cardiac assessment for normal cardiac function and commonly seen pathological conditions\n• Pulmonary assessment for normal function and common problems.\n• eFast assessment for trauma and hemodynamically unstable patients\n• POCUS for DVT assessment \nThe online didactic modules have been approved by the American Association of Nurse Anesthetists (AANA) for 32.00 Class A CE credits. \nHands-On Lab Stations: \n• Cardiac Assessment\n• eFAST Assessment\n• Gastric Assessment\n• Pulmonary Assessment\n• US for Internal Jugular Access\n• US Guided Vascular Access\n• Venous Access \nThe hands-on lab has been approved by the American Association of Nurse Anesthetists (AANA) for 08.00 Class A CE credits. \n\nCourse Schedule\nTHIS IS A 1-DAY ONLY COURSE \n• 7:30am-8:00am: Station Overview & Breakfast (Provided by Maverick)\n• 8:00am-12:00pm: Hands-on Live Model Assessment Stations\n• 12:00pm-12:30pm: Presentation & Lunch (Provided by Maverick)\n• 12:30pm-3:00pm: Hands-on Live Model Assessment Stations \n\nTravel & FAQ:     \nPlease Visit Our Site To See Travel Information For Your In-Person Course \nFAQ & Technical Requirements
URL:https://maverickmeded.com/event/point-of-care-ultrasound-with-vascular-access-6/
LOCATION:Matrix Medical Training Lab\, 2074 S Houston Avenue\, Humble\, TX\, 77396\, United States
CATEGORIES:Point-of-Care Ultrasound with Vascular Access
END:VEVENT
BEGIN:VEVENT
DTSTART;TZID=America/Chicago:20251213T080000
DTEND;TZID=America/Chicago:20251214T170000
DTSTAMP:20260419T181442
CREATED:20250729T154057Z
LAST-MODIFIED:20260202T191844Z
UID:7136-1765612800-1765731600@maverickmeded.com
SUMMARY:Mastering Regional Anesthesia Techniques (SOLD OUT)
DESCRIPTION:Are the course dates you want to attend sold out? Click here to be added to a waitlist! We’ll reach out to you as soon as a slot becomes available. \nThis comprehensive course is designed for healthcare professionals seeking to master the skills of regional anesthesia. The curriculum integrates both the former Regional Anesthesia Essential Techniques and Advanced Techniques Maverick courses\, offering a more comprehensive education on ultrasound guided nerve blocks combined into one course. Through intensive hands-on practice with cadavers (some with Maverick’s patented pulsatile system) and live models\, participants will refine their skills under the guidance of experienced instructors. The combination of online didactic learning and all hands-on workshops ensures a well-rounded and immersive experience. \n\nCourse Price:     \n• $2\,500.00\n• $2\,000.00: Military rate (MUST email proof of valid military ID)\n• $2\,000.00: Maverick Alumni Rate\n• $500.00: SRNA Students Only (limit 4 per course date) \nDiscounted rates only given at the time of purchase with use of discount codes. No retroactive discounts will be given. Discount codes and prices may not be transferred to others. You must fully qualify for a discount in order to use a discount code. All discounts will be reviewed and verified. \nVeterans and active military — please use code Military at checkout to take advantage of our military discount! (Anyone using this code must provide proof of valid military ID after purchase) \nMaverick Alumni — If you have purchased and attended a Maverick Course before\, you qualify for the Maverick Alumni discount code. Use ALUMNI at checkout to get an exclusive discount. \nBefore purchasing\, please review our Cancellation Policy. \nAll courses must be purchased by the intended attendee. If purchasing a course on behalf of someone else\, please contact us before purchasing. Course registrations may not be transferred. \n\nCourse Content: \n38 AANA Class A CE Hours \nOnline Didactic Modules Topics:\n(Online didactic modules will open at least 6 weeks prior to lab)\n \n• Axillary\n• Adductor Canal\n• Erector Spinae\n• Genicular\n• Interscalene\n• Paravertebral\n• PECs 1&2\n• PENG/LFCN\n• Popliteal Plexus\n• Popliteal Sciatic\n• Quadratus Lumborum\n• Supraclavicular\n• Suprascapular\n• Catheter Placement/Management\n• It also includes modules on the physics of ultrasound and implementation of a Postoperative Pain service \nThe online didactic modules have been approved by the American Association of Nurse Anesthetists (AANA) for 22.00 Class A CE credits. \nHands-On Cadaver Lab Stations: \n• Axillary\n• Adductor Canal\n• Erector Spinae\n• Genicular\n• Interscalene\n• Paravertebral\n• PECs 1&2\n• PENG/LFCN\n• Popliteal Plexus\n• Popliteal Sciatic\n• Quadratus Lumborum (live model scanning only)\n• Supraclavicular\n• Suprascapular\n• Catheter Placement/Management \nThe hands-on cadaver lab has been approved by the American Association of Nurse Anesthetists for 16.00 Class A CE credits. \n\nCourse Schedule\nSATURDAY LAB SCHEDULE\n• 7:30am-8:00am: Coffee & Breakfast Served (Provided by Maverick)\n• 8:00am-9:00am: Orientation with Breakfast\n• 9:00am-12:00pm: Hands-on Cadaver & Live Model Stations\n• 12:00pm-1:00pm: Q&A with Lunch (Provided by Maverick)\n• 1:00pm-5:00pm: Hands-on Cadaver & Live Model Stations \nSUNDAY LAB SCHEDULE\n• 7:30am-8:00am: Coffee & Breakfast Served (Provided by Maverick)\n• 8:00am-8:30am: Review with Breakfast\n• 8:30am-12:00pm: Hands-on Cadaver & Live Model Stations\n• 12:00pm-1:00pm: Q&A with Lunch (Provided by Maverick)\n• 1:00pm-3:00pm: Open Cadaver Lab \n\nTravel & FAQ:     \nPlease Visit Our Site To See Travel Information For Your In-Person Course \nFAQ & Technical Requirements
URL:https://maverickmeded.com/event/mastering-regional-anesthesia-techniques-20/
LOCATION:Matrix Medical Training Lab\, 2074 S Houston Avenue\, Humble\, TX\, 77396\, United States
CATEGORIES:Master Techniques
END:VEVENT
END:VCALENDAR