BEGIN:VCALENDAR
VERSION:2.0
PRODID:-//Maverick Medical Education - ECPv6.15.18//NONSGML v1.0//EN
CALSCALE:GREGORIAN
METHOD:PUBLISH
X-WR-CALNAME:Maverick Medical Education
X-ORIGINAL-URL:https://maverickmeded.com
X-WR-CALDESC:Events for Maverick Medical Education
REFRESH-INTERVAL;VALUE=DURATION:PT1H
X-Robots-Tag:noindex
X-PUBLISHED-TTL:PT1H
BEGIN:VTIMEZONE
TZID:America/Chicago
BEGIN:DAYLIGHT
TZOFFSETFROM:-0600
TZOFFSETTO:-0500
TZNAME:CDT
DTSTART:20250309T080000
END:DAYLIGHT
BEGIN:STANDARD
TZOFFSETFROM:-0500
TZOFFSETTO:-0600
TZNAME:CST
DTSTART:20251102T070000
END:STANDARD
BEGIN:DAYLIGHT
TZOFFSETFROM:-0600
TZOFFSETTO:-0500
TZNAME:CDT
DTSTART:20260308T080000
END:DAYLIGHT
BEGIN:STANDARD
TZOFFSETFROM:-0500
TZOFFSETTO:-0600
TZNAME:CST
DTSTART:20261101T070000
END:STANDARD
BEGIN:DAYLIGHT
TZOFFSETFROM:-0600
TZOFFSETTO:-0500
TZNAME:CDT
DTSTART:20270314T080000
END:DAYLIGHT
BEGIN:STANDARD
TZOFFSETFROM:-0500
TZOFFSETTO:-0600
TZNAME:CST
DTSTART:20271107T070000
END:STANDARD
END:VTIMEZONE
BEGIN:VEVENT
DTSTART;TZID=America/Chicago:20260228T080000
DTEND;TZID=America/Chicago:20260301T170000
DTSTAMP:20260419T124658
CREATED:20250717T224033Z
LAST-MODIFIED:20260128T211118Z
UID:7049-1772265600-1772384400@maverickmeded.com
SUMMARY:Regional Anesthesia Basic Techniques + Point-of-Care Ultrasound with Vascular Access Combo
DESCRIPTION:Are the course dates you want to attend sold out? Click here to be added to a waitlist! We’ll reach out to you as soon as a slot becomes available. \nMaverick Medical Education offers a course combining regional anesthesia\, point-of-care ultrasound (POCUS)\, and ultrasound guided vascular access: \n• Regional Anesthesia Basic Techniques teaches the basics of regional anesthesia\, including ultrasound-guided nerve blocks. The course covers a wide range of topics\, including ultrasound physics\, anatomy\, image interpretation\, and needle guidance techniques to perform 8 basic regional nerve blocks. \n• POCUS with Vascular Access teaches the use of ultrasound for patient assessment. The course covers the basics of ultrasound physics and anatomy\, as well as the specific applications of POCUS in these areas. \nThis course is ideal for CRNAs\, nurse practitioners\, physician assistants\, and other allied health professionals who want to learn the skills necessary to perform ultrasound-guided regional anesthesia and POCUS. The course is also a great way to stay up to date on the latest advances in these areas. \n\nCourse Price: \n• $3\,000.00\n• $2\,400.00: Military rate \nVeterans and active military — To support our military\, Maverick offers a 20% discount on all hands-on lab courses to any active or veteran military service members. To use our military discount\, you must verify your military status through GOVX ID at the Cart Checkout page. Once verified\, a discount code will be generated and applied to your order. \nDiscounted rates only given at the time of purchase with use of discount codes. No retroactive discounts will be given. Discount codes and prices may not be transferred to others. You must fully qualify for a discount in order to use a discount code. All discounts will be reviewed and verified. \nBefore purchasing\, please review our Cancellation Policy. \nAll courses must be purchased by the intended attendee. If purchasing a course on behalf of someone else\, please contact us before purchasing. Course registrations may not be transferred. \n\nCourse Content: \n62 AANA Class A CE Hours \nRegional Anesthesia Basic Techniques: Covers the basics of regional anesthesia\, including the following ultrasound-guided nerve blocks: \n• Adductor Canal\n• Axillary\n• Femoral\n• Genicular\n• Interscalene/Supraclavicular\n• PENG/LFCN\n• Popliteal Plexus\n• Popliteal Sciatic \nPOCUS with Vascular Access: Teaches the use of POCUS to assess: \n• POCUS for Gastric Assessment\n• POCUS for Peripheral Vascular access\n• POCUS for Internal Jugular access\n• Cardiac assessment for normal cardiac function and commonly seen pathological conditions\n• Pulmonary assessment for normal function and common problems.\n• eFast assessment for trauma and hemodynamically unstable patients\n• POCUS for DVT assessment \nCE’s Earned \nThe online didactic modules have been approved by the American Association of Nurse Anesthetists (AANA) for 46.00 Class A CE credits. \nThe hands-on lab has been approved by the American Association of Nurse Anesthetists (AANA) for 16.00 Class A CE credits. \n\nCourse Schedule\nCADAVER LAB SCHEDULE\n• 7:30am-8:00am: Coffee & Breakfast Served (Provided by Maverick)\n• 8:00am-9:00am: Orientation & Breakfast (Provided by Maverick)\n• 9:00am-12:00pm: Hands-on Cadaver Lab & Physical Exam Stations\n• 12:00pm-1:00pm: Lunch (Provided by Maverick)\n• 12:30pm-4:00pm: Hands-on Cadaver Lab & Physical Exam Stations \nPOCUS LAB SCHEDULE\n• 7:30am-8:00am: Station Overview & Breakfast (Provided by Maverick)\n• 8:00am-12:00pm: Hands-on Live Model Assessment Stations\n• 12:00pm-12:30pm: Presentation & Lunch (Provided by Maverick)\n• 12:30pm-3:00pm: Hands-on Live Model Assessment Stations \n\nTravel & FAQ:     \nPlease Visit Our Site To See Travel Information For Your In-Person Course \nFAQ & Technical Requirements
URL:https://maverickmeded.com/event/regional-anesthesia-basic-techniques-point-of-care-ultrasound-with-vascular-access-combo/
LOCATION:Matrix Medical Training Lab\, 2074 S Houston Avenue\, Humble\, TX\, 77396\, United States
CATEGORIES:Essential Techniques,Point-of-Care Ultrasound with Vascular Access,Regional Anesthesia,Regional Anesthesia Basic Techniques and Point-of-Care Ultrasound with Vascular Access Combo
END:VEVENT
BEGIN:VEVENT
DTSTART;TZID=America/Chicago:20260321T080000
DTEND;TZID=America/Chicago:20260322T170000
DTSTAMP:20260419T124658
CREATED:20250715T212438Z
LAST-MODIFIED:20260313T170933Z
UID:7033-1774080000-1774198800@maverickmeded.com
SUMMARY:Mastering Regional Anesthesia Techniques (SOLD OUT)
DESCRIPTION:Are the course dates you want to attend sold out? Click here to be added to a waitlist! We’ll reach out to you as soon as a slot becomes available. \nThis comprehensive course is designed for healthcare professionals seeking to master the skills of regional anesthesia. The curriculum integrates both the former Regional Anesthesia Essential Techniques and Advanced Techniques Maverick courses\, offering a more comprehensive education on ultrasound guided nerve blocks combined into one course. Through intensive hands-on practice with cadavers (some with Maverick’s patented pulsatile system) and live models\, participants will refine their skills under the guidance of experienced instructors. The combination of online didactic learning and all hands-on workshops ensures a well-rounded and immersive experience. \n\nCourse Price:     \n• $2\,600.00\n• $2\,080.00: Military rate\n• $2\,100.00: Maverick Alumni Rate\n• $500.00: SRNA Students Only (limit 4 per course date) \nDiscounted rates only given at the time of purchase with use of discount codes. No retroactive discounts will be given. Discount codes and prices may not be transferred to others. You must fully qualify for a discount in order to use a discount code. All discounts will be reviewed and verified. \nVeterans and active military — To support our military\, Maverick offers a 20% discount on all hands-on lab courses to any active or veteran military service members. To use our military discount\, you must verify your military status through GOVX ID at the Cart Checkout page. Once verified\, a discount code will be generated and applied to your order. \nMaverick Alumni — If you have purchased and attended a Maverick Course before\, you qualify for the Maverick Alumni discount code. Use ALUMNI at checkout to get an exclusive discount. \nSRNAs — We offer the Hank Dougherty Memorial Scholarship to 4 SRNAs per course.  Hank was a Maverick partner who’s life was devoted to teaching anesthesia students and the betterment of the profession of anesthesia.  Hank felt that ultrasound was the future in anesthesia and helped developed the courses we offer today. \nIn order to receive the Hank Dougherty Memorial Scholarship course rate\, use the discount code below for the course you schedule.  There is a limit of 4 scholarships awarded per course date.  If the discount code does not work\, this means that a particular course is sold out of scholarship slots. \nPLEASE BE AWARE THAT ONCE YOU REGISTER FOR A SRNA SLOT\, THERE WILL BE NO RESCHEDULES\, REFUNDS OR CANCELLATIONS!!  \n• January 17-18\, 2026: SRNAJan2026\n• February 7-8\, 2026: SRNAFeb2026\n• March 21-22\, 2026: SRNAMar2026\n• April 25-26\, 2026: SRNAApr2026\n• May 16-17\, 2026: SRNAMay2026\n• June 13-14\, 2026: SRNAJune2026\n• July 11-12\, 2026: SRNAJuly2026\n• September 19-20\, 2026: SRNASept2026\n• November 14-15\, 2026: SRNANov2026\n• December 12-13\, 2026: SRNADec2026 \nBefore purchasing\, please review our Cancellation Policy. \nAll courses must be purchased by the intended attendee. If purchasing a course on behalf of someone else\, please contact us before purchasing. Course registrations may not be transferred. \n\nCourse Content: \n38 AANA Class A CE Hours \nOnline Didactic Modules Topics:\n(Online didactic modules will open at least 6 weeks prior to lab)\n \n• Axillary\n• Adductor Canal\n• Erector Spinae\n• Genicular\n• Interscalene\n• Paravertebral\n• PECs 1&2\n• PENG/LFCN\n• Popliteal Plexus\n• Popliteal Sciatic\n• Quadratus Lumborum\n• Supraclavicular\n• Suprascapular\n• Catheter Placement/Management\n• It also includes modules on the physics of ultrasound and implementation of a Postoperative Pain service \nThe online didactic modules have been approved by the American Association of Nurse Anesthetists (AANA) for 22.00 Class A CE credits. \nHands-On Cadaver Lab Stations: \n• Axillary\n• Adductor Canal\n• Erector Spinae\n• Genicular\n• Interscalene\n• Paravertebral\n• PECs 1&2\n• PENG/LFCN\n• Popliteal Plexus\n• Popliteal Sciatic\n• Quadratus Lumborum (live model scanning only)\n• Supraclavicular\n• Suprascapular\n• Catheter Placement/Management \nThe hands-on cadaver lab has been approved by the American Association of Nurse Anesthetists for 16.00 Class A CE credits. \n\nCourse Schedule\nSATURDAY LAB SCHEDULE\n• 7:30am-8:00am: Coffee & Breakfast Served (Provided by Maverick)\n• 8:00am-9:00am: Orientation with Breakfast\n• 9:00am-12:00pm: Hands-on Cadaver & Live Model Stations\n• 12:00pm-1:00pm: Q&A with Lunch (Provided by Maverick)\n• 1:00pm-5:00pm: Hands-on Cadaver & Live Model Stations \nSUNDAY LAB SCHEDULE\n• 7:30am-8:00am: Coffee & Breakfast Served (Provided by Maverick)\n• 8:00am-8:30am: Review with Breakfast\n• 8:30am-12:00pm: Hands-on Cadaver & Live Model Stations\n• 12:00pm-1:00pm: Q&A with Lunch (Provided by Maverick)\n• 1:00pm-3:00pm: Open Cadaver Lab \n\nTravel & FAQ:     \nPlease Visit Our Site To See Travel Information For Your In-Person Course \nFAQ & Technical Requirements
URL:https://maverickmeded.com/event/mastering-regional-anesthesia-techniques-11/
LOCATION:Matrix Medical Training Lab\, 2074 S Houston Avenue\, Humble\, TX\, 77396\, United States
CATEGORIES:Master Techniques
END:VEVENT
END:VCALENDAR